BEGIN:VCALENDAR
VERSION:2.0
PRODID:-//103.27.32.44//NONSGML kigkonsult.se iCalcreator 2.26.9//
CALSCALE:GREGORIAN
METHOD:PUBLISH
X-FROM-URL:https://www.vyufda.com.au
X-WR-TIMEZONE:Australia/Melbourne
BEGIN:VTIMEZONE
TZID:Australia/Melbourne
X-LIC-LOCATION:Australia/Melbourne
BEGIN:STANDARD
DTSTART:20210404T030000
TZOFFSETFROM:+1100
TZOFFSETTO:+1000
RDATE:20220403T030000
TZNAME:AEST
END:STANDARD
BEGIN:DAYLIGHT
DTSTART:20201004T020000
TZOFFSETFROM:+1000
TZOFFSETTO:+1100
RDATE:20211003T020000
TZNAME:AEDT
END:DAYLIGHT
END:VTIMEZONE
BEGIN:VEVENT
UID:ai1ec-9022@www.vyufda.com.au/vyufda01
DTSTAMP:20210228T092541Z
CATEGORIES;LANGUAGE=en-AU:News\,Trial Events\,updates
CONTACT:Ros Reynolds\; 0417 558 002\; geminca@westvic.com.au
DESCRIPTION:<div dir='ltr'>\n<div dir='ltr'>\n<p class='x_p2'>\n</div>\n</d
 iv>\n<p class='x_p2'><span class='x_s2'>Address – 49 Boonerah RD Hexham.<b
 r />\n</span><span class='x_s2'>It’s a dirt road in the middle of the town
 .</span></p>\n<p class='x_p2'><span class='x_s2'>Please enter through the 
 paddock (there will be signs)</span></p>\n<p class='x_p2'><span class='x_s
 2'>Judges talk is at 7 am sharp! </span></p>\n<p class='x_p2'><strong><spa
 n class='x_s2'>Everyone must sign the covid register at the time keepers t
 ent at arrival</span></strong></p>\n<p class='x_p2'><strong><span class='x
 _s2'>Everyone must adhere to the VYUFDA COVID rules.</span></strong></p>\n
 <p class='x_p2'><span class='x_s2'>BYO Food and chairs\, </span></p>\n<p c
 lass='x_p2'><span class='x_s2'>CULatte coffee Van will be around please su
 pport them where possible.</span></p>\n<p class='x_p2'><span class='x_s2'>
 Looking forward to a great day</span></p>\n<p class='x_p2'>Vin Gedye – jud
 ging Maiden / Novice<br />\nSharon Barry – judging Improver / Open</p>\n<p
 ><a href='https://www.vyufda.com.au/vyufda01/wp-content/uploads/2020/11/CO
 VID-Safe-Plan.pdf'>COVID Safe Plan V1.0</a></p>\n<p><a href='https://www.v
 yufda.com.au/vyufda01/wp-content/uploads/2020/12/Open-Improver.pdf'>Hexham
  Open Improver</a></p>\n<p><a href='https://www.vyufda.com.au/vyufda01/wp-
 content/uploads/2020/12/Maiden-Novice.pdf'>Hexham Maiden Novice</a></p>
DTSTART;VALUE=DATE:20201206
DTEND;VALUE=DATE:20201207
GEO:-37.999502;+142.690241
LOCATION:Hexham @ 49 Boonerah Road\, Hexham Vic Australia
SEQUENCE:0
SUMMARY:Hexham Yard Dog Trial
URL:https://www.vyufda.com.au/event/hexham-yard-dog-trial/
X-COST-TYPE:free
END:VEVENT
BEGIN:VEVENT
UID:ai1ec-9057@www.vyufda.com.au/vyufda01
DTSTAMP:20210228T092541Z
CATEGORIES;LANGUAGE=en-AU:News\,Trial Events\,updates
CONTACT:Taleigha Emmerson\; 0419 543 342\; t.emmerson@hotmail.com
DESCRIPTION:<p><a href='https://www.vyufda.com.au/vyufda01/wp-content/uploa
 ds/2020/11/COVID-Safe-Plan.pdf'>COVID Safe Plan V1.0</a></p>\n<p><a href='
 https://www.vyufda.com.au/vyufda01/wp-content/uploads/2021/01/Thorpdale-En
 try-Form-2021.pdf'>Thorpdale Entry Form 2021</a></p>
DTSTART;VALUE=DATE:20210313
DTEND;VALUE=DATE:20210315
GEO:-38.291428;+146.187477
LOCATION:Thorpdale Recreation Reserve @ 10 Stockdales Rd\, Thorpdale VIC 38
 35
SEQUENCE:0
SUMMARY:Thorpdale Yard Dog Trial
URL:https://www.vyufda.com.au/event/thorpdale-yard-dog-trial/
X-COST-TYPE:free
END:VEVENT
BEGIN:VEVENT
UID:ai1ec-9108@www.vyufda.com.au/vyufda01
DTSTAMP:20210228T092541Z
CATEGORIES;LANGUAGE=en-AU:News\,Trial Events
CONTACT:Craig Smith\; 0429 539 225\; maidenhills@gmail.com
DESCRIPTION:<p><a href='https://www.vyufda.com.au/vyufda01/wp-content/uploa
 ds/2021/02/Yanac-Dog-Trial-Entry-Form-2021.pdf'>Yanac Dog Trial Entry Form
  2021</a></p>
DTSTART;VALUE=DATE:20210313
DTEND;VALUE=DATE:20210314
GEO:-36.136811;+141.436567
LOCATION:Yanac Recreation Reserve\,Yanac @ 8 Francis Street\, Yanac 3418
SEQUENCE:0
SUMMARY:Yanac Yard Trial
URL:https://www.vyufda.com.au/event/yanac-yard-trial/
X-COST-TYPE:free
END:VEVENT
BEGIN:VEVENT
UID:ai1ec-9058@www.vyufda.com.au/vyufda01
DTSTAMP:20210228T092541Z
CATEGORIES;LANGUAGE=en-AU:Field Day Series\,News\,Trial Events\,updates
CONTACT:James Fowler and Dale Thompson\; 0417 133 826 / 0419 564 688\; mrjf
 owler@outlook.com
DESCRIPTION:<p><a href='https://www.vyufda.com.au/vyufda01/wp-content/uploa
 ds/2020/11/COVID-Safe-Plan.pdf'>COVID Safe Plan V1.0</a></p>\n<p> </p>\n<p
  style='text-align: left\;'><a href='https://www.vyufda.com.au/vyufda01/wp
 -content/uploads/2021/01/Coprice-Benalla-Victorian-Yard-Dog-Championships-
 2020.pdf'>Coprice Benalla Victorian Yard Dog Championships 2020</a></p>
DTSTART;VALUE=DATE:20210319
DTEND;VALUE=DATE:20210322
GEO:-36.524574;+145.980499
LOCATION:Benalla Racecourse And Recreation Reserve @ 5809 Midland Hwy\, Ben
 alla VIC 3672
SEQUENCE:0
SUMMARY:Coprice Benalla Victorian Yard Dog Championships
URL:https://www.vyufda.com.au/event/coprice-benalla-victorian-yard-dog-cham
 pionships/
X-COST-TYPE:free
END:VEVENT
BEGIN:VEVENT
UID:ai1ec-9184@www.vyufda.com.au/vyufda01
DTSTAMP:20210228T092541Z
CATEGORIES;LANGUAGE=en-AU:Trial Events
CONTACT:Geb Biddy\; 0438 356 656\; gbibby@graincorp.com.au
DESCRIPTION:<p><a href='https://www.vyufda.com.au/vyufda01/wp-content/uploa
 ds/2021/01/Horsham-Entry-March-2021.pdf'>Horsham Entry March 2021</a></p>
 \n<p><a href='https://www.vyufda.com.au/vyufda01/wp-content/uploads/2020/1
 1/COVID-Safe-Plan.pdf'>COVID Safe Plan V1.0</a></p>
DTSTART;VALUE=DATE:20210321
DTEND;VALUE=DATE:20210322
GEO:-36.719868;+142.204924
LOCATION:Horsham Showgrounds
SEQUENCE:0
SUMMARY:Horsham Yard Trial
URL:https://www.vyufda.com.au/event/horsham-yard-trial/
X-COST-TYPE:free
END:VEVENT
BEGIN:VEVENT
UID:ai1ec-9135@www.vyufda.com.au/vyufda01
DTSTAMP:20210228T092541Z
CATEGORIES;LANGUAGE=en-AU:News\,Trial Events
CONTACT:Ross McIntosh / Marcus Campbell\; 0439 037 228\; rmnerrin@icloud.co
 m
DESCRIPTION:<p><a href='https://www.vyufda.com.au/vyufda01/wp-content/uploa
 ds/2021/01/Mt-Hess-Farm-Dog-Trial.pdf'>Mt Hess Farm Dog Trial</a></p>\n<p>
 <strong>27th and 28th of March\, 2021</strong></p>\n<p><strong>Novice Satu
 rday 27th\, Open Sunday 28th </strong></p>\n<p><strong>Entries CLOSING: 24
 th of March\, 2021</strong></p>\n<p> </p>
DTSTART;VALUE=DATE:20210327
DTEND;VALUE=DATE:20210329
GEO:-38.150186;+143.739411
LOCATION:Mount Hesse @ Mt Hesse Estate Rd\, Ombersley VIC 3241
SEQUENCE:0
SUMMARY:Mount Hesse Farm Trial – Mount Hesse
URL:https://www.vyufda.com.au/event/mount-hesse-farm-trial/
X-COST-TYPE:free
END:VEVENT
BEGIN:VEVENT
UID:ai1ec-9105@www.vyufda.com.au/vyufda01
DTSTAMP:20210228T092541Z
CATEGORIES;LANGUAGE=en-AU:News\,Trial Events
CONTACT:Paul McPhail\; 0418 335 306\; info@belokakelpies.com.au
DESCRIPTION:<p><a href='https://www.vyufda.com.au/vyufda01/wp-content/uploa
 ds/2020/11/COVID-Safe-Plan.pdf'>COVID Safe Plan V1.0</a></p>
DTSTART;VALUE=DATE:20210403
DTEND;VALUE=DATE:20210405
GEO:-38.659452;+146.420173
LOCATION:Beloka @ 5845 S Gippsland Hwy\, Welshpool VIC 3966
SEQUENCE:0
SUMMARY:Beloka Easter Sheep Dog Trial
URL:https://www.vyufda.com.au/event/beloka-easter-sheep-dog-trial/
X-COST-TYPE:free
END:VEVENT
BEGIN:VEVENT
UID:ai1ec-9343@www.vyufda.com.au/vyufda01
DTSTAMP:20210228T092541Z
CATEGORIES;LANGUAGE=en-AU:News\,Trial Events
CONTACT:Mark Wheeler\; 0488 972 904\; m.a.wheeler@bigpond.com
DESCRIPTION:<p><a href='https://www.vyufda.com.au/vyufda01/wp-content/uploa
 ds/2021/02/VYUFDA-COVID-Safe-Plan-2020.pdf'>COVID Safe Plan V1.0</a></p>
DTSTART;VALUE=DATE:20210410
DTEND;VALUE=DATE:20210411
LOCATION:'Somerset'\, Yundool
SEQUENCE:0
SUMMARY:Yundool Good Friday Appeal Funds Raiser Yard Dog Trial
URL:https://www.vyufda.com.au/event/yundool-yard-dog-trial/
X-COST-TYPE:free
END:VEVENT
BEGIN:VEVENT
UID:ai1ec-9117@www.vyufda.com.au/vyufda01
DTSTAMP:20210228T092541Z
CATEGORIES;LANGUAGE=en-AU:News\,Trial Events
CONTACT:East Gippsland Farm Dog Group\; https://egfielddays.com.au/
DESCRIPTION:<p><a href='https://www.vyufda.com.au/vyufda01/wp-content/uploa
 ds/2020/11/COVID-Safe-Plan.pdf'>COVID Safe Plan V1.0</a></p>
DTSTART;VALUE=DATE:20210423
DTEND;VALUE=DATE:20210425
GEO:-37.880365;+147.566371
LOCATION:Bairnsdale Aerodrome @ 345 Bengworden Rd\, Bairnsdale VIC 3875\, A
 ustralia
SEQUENCE:0
SUMMARY:East Gippsland Field Days Trial
URL:https://www.vyufda.com.au/event/east-gippsland-field-days-trial/
X-COST-TYPE:free
END:VEVENT
BEGIN:VEVENT
UID:ai1ec-9091@www.vyufda.com.au/vyufda01
DTSTAMP:20210228T092541Z
CATEGORIES;LANGUAGE=en-AU:Trial Events
CONTACT:
DESCRIPTION:<div dir='auto'>2021 National Kelpie Field Trial Championship</
 div>\n<div dir='auto'>Friday 23 TO SUNDAY 25 April 2021</div>\n<div dir='a
 uto'>Venue: Allora Showgrounds – QLD</div>\n<div dir='auto'>Trial Commence
 s: 8.00am Friday 23 April 2021</div>\n<div dir='auto'>Entries Close: Frida
 y 09 April 2021</div>\n<div dir='auto'></div>\n<div dir='auto'><a href='ht
 tps://www.vyufda.com.au/vyufda01/wp-content/uploads/2021/01/NKFTC-entry-sc
 hedule-2021.pdf'>NKFTC-entry-schedule-2021</a></div>\n<div dir='auto'></di
 v>\n<div dir='auto'>http://www.wkc.org.au/</div>\n<div dir='auto'></div>
DTSTART;VALUE=DATE:20210423
DTEND;VALUE=DATE:20210426
GEO:-28.040238;+151.989302
LOCATION:Allora Show Grounds @ Allora
SEQUENCE:0
SUMMARY:National Kelpie Field Trial Championship – Qld – Allora Show Ground
 s
URL:https://www.vyufda.com.au/event/national-kelpie-field-trial-championshi
 p-qld-allora-show-grounds/
X-COST-TYPE:free
END:VEVENT
BEGIN:VEVENT
UID:ai1ec-9020@www.vyufda.com.au/vyufda01
DTSTAMP:20210228T092541Z
CATEGORIES;LANGUAGE=en-AU:News\,Trial Events\,updates
CONTACT:Justin Tombs
DESCRIPTION:
DTSTART;VALUE=DATE:20210429
DTEND;VALUE=DATE:20210503
GEO:-30.514299;+151.679029
LOCATION:Armidale Showgrounds @ Armidale\, NSW\, Australia
SEQUENCE:0
SUMMARY:Australian Yard Dog Championships – Armidale NSW
URL:https://www.vyufda.com.au/event/australian-yard-dog-championships-armid
 ale-nsw/
X-COST-TYPE:free
END:VEVENT
BEGIN:VEVENT
UID:ai1ec-9146@www.vyufda.com.au/vyufda01
DTSTAMP:20210228T092541Z
CATEGORIES;LANGUAGE=en-AU:Trial Events
CONTACT:East Gippsland Farm Dog Group
DESCRIPTION:<p><a href='https://www.vyufda.com.au/vyufda01/wp-content/uploa
 ds/2020/11/COVID-Safe-Plan.pdf'>COVID Safe Plan V1.0</a></p>
DTSTART;VALUE=DATE:20210515
DTEND;VALUE=DATE:20210517
GEO:-38.506403;+146.940414
LOCATION:Stockdale
SEQUENCE:0
SUMMARY:Stockdale Utility Trial
URL:https://www.vyufda.com.au/event/stockdale-utility-trial/
X-COST-TYPE:free
END:VEVENT
BEGIN:VEVENT
UID:ai1ec-9126@www.vyufda.com.au/vyufda01
DTSTAMP:20210228T092541Z
CATEGORIES;LANGUAGE=en-AU:Trial Events
CONTACT:East Gippsland Farm Dog Group
DESCRIPTION:<p><a href='https://www.vyufda.com.au/vyufda01/wp-content/uploa
 ds/2020/11/COVID-Safe-Plan.pdf'>COVID Safe Plan V1.0</a></p>
DTSTART;VALUE=DATE:20210605
DTEND;VALUE=DATE:20210607
GEO:-38.506403;+146.940414
LOCATION:Stringy Bark Lane\, WOODSIDE 3874 @ Stringy Bark Lane\, WOODSIDE 3
 874
SEQUENCE:0
SUMMARY:Woodside Utility Trial
URL:https://www.vyufda.com.au/event/woodside-utility-trial/
X-COST-TYPE:free
END:VEVENT
BEGIN:VEVENT
UID:ai1ec-9189@www.vyufda.com.au/vyufda01
DTSTAMP:20210228T092541Z
CATEGORIES;LANGUAGE=en-AU:News\,Trial Events\,updates
CONTACT:Neville Williams\; 0437 400 000
DESCRIPTION:<p><a href='https://www.vyufda.com.au/vyufda01/wp-content/uploa
 ds/2020/11/COVID-Safe-Plan.pdf'>COVID Safe Plan V1.0</a></p>\n<p> </p>
DTSTART;VALUE=DATE:20210612
DTEND;VALUE=DATE:20210613
GEO:-37.280663;+144.724104
LOCATION:Lancefield @ Lancefield VIC 3435\, Australia
SEQUENCE:0
SUMMARY:Lancefield Yard Dog Trial June
URL:https://www.vyufda.com.au/event/lancefield-yard-dog-trial-june/
X-COST-TYPE:free
END:VEVENT
BEGIN:VEVENT
UID:ai1ec-9217@www.vyufda.com.au/vyufda01
DTSTAMP:20210228T092541Z
CATEGORIES;LANGUAGE=en-AU:News\,Trial Events
CONTACT:Joe Spicer\; 0429 667 464\; joespicer@activ8.net.au
DESCRIPTION:<div dir='ltr'>\n<div dir='ltr'>\n<p class='x_p2'>\n</div>\n</d
 iv>\n<p class='x_p2'>
DTSTART;VALUE=DATE:20210619
DTEND;VALUE=DATE:20210621
GEO:+143.8475;+37.541
LOCATION:Ballarat Showgrounds @ Creswick Road\, Wendouree
SEQUENCE:0
SUMMARY:Ballarat Yard Trial
URL:https://www.vyufda.com.au/event/ballarat-yard-trial/
X-COST-TYPE:free
END:VEVENT
BEGIN:VEVENT
UID:ai1ec-9092@www.vyufda.com.au/vyufda01
DTSTAMP:20210228T092541Z
CATEGORIES;LANGUAGE=en-AU:Field Day Series\,Trial Events
CONTACT:Rod Cavill
DESCRIPTION:<p><a href='https://www.vyufda.com.au/vyufda01/wp-content/uploa
 ds/2020/11/COVID-Safe-Plan.pdf'>COVID Safe Plan V1.0</a></p>\n<p><a href='
 https://www.sheepshow.com/'>The Australian Sheep & Wool Show website</a></
 p>\n<h1><span style='font-size: 36pt\;'>O’Sullivans Transport Central Vict
 orian Yard Dog Championships</span></h1>\n<p>Once again we have the very b
 est of competition working dogs on display throughout the show. There will
  be two courses operating over the three days showcasing the abilities of 
 both the dogs and handlers from Tasmania\, NSW\, SA & Victoria.</p>\n<p>Si
 tuated on the main arena with ample seating\, come and be part of the dram
 a as the competition builds to the climax of the final held on Sunday afte
 rnoon to determine the Central Victorian Yard Dog Champion.</p>\n<p>With c
 ompetitors from four different States\, a new challenge has been added thi
 s year\, The Feed Central Interstate Working Dog Challenge\, with the fina
 l held under lights on Saturday night.</p>\n<p>Huge appreciation & thanks 
 to our generous sponsors\; O’Sullivans Transport\, Coprice\, Shearwell Aus
 tralia\, Focus Genetics\, Feed Central\, Ruralco Property\, Stock & Land\,
  McRoberts Engineering\, Brendan Kelly Mobile Plunge Dipping\, Metalcorp\,
  Tilburn Engineering & Oringi Protection Wear.</p>
DTSTART;VALUE=DATE:20210716
DTEND;VALUE=DATE:20210719
GEO:-36.736515;+144.273806
LOCATION:Bendigo Showgrounds - Australian Sheep and Wool Show @ Kookaburra 
 Ave\, North Bendigo
SEQUENCE:0
SUMMARY:O’Sullivans Transport Central Victorian Yard Dog Championships
URL:https://www.vyufda.com.au/event/osullivans-transport-central-victorian-
 yard-dog-championships/
X-COST-TYPE:free
END:VEVENT
BEGIN:VEVENT
UID:ai1ec-9122@www.vyufda.com.au/vyufda01
DTSTAMP:20210228T092541Z
CATEGORIES;LANGUAGE=en-AU:Trial Events
CONTACT:
DESCRIPTION:
DTSTART;VALUE=DATE:20210801
DTEND;VALUE=DATE:20210804
GEO:-37.73543;+142.021929
LOCATION:Hamilton Showgrounds @ Shakespeare St\, Hamilton VIC 3300\, Austra
 lia
SEQUENCE:0
SUMMARY:Victorian Farm Dog Championship – Sheepvention
URL:https://www.vyufda.com.au/event/victorian-farm-dog-championship-sheepve
 ntion/
X-COST-TYPE:free
END:VEVENT
BEGIN:VEVENT
UID:ai1ec-9195@www.vyufda.com.au/vyufda01
DTSTAMP:20210228T092541Z
CATEGORIES;LANGUAGE=en-AU:News\,Trial Events\,updates
CONTACT:Neville Williams\; 0437 400 000
DESCRIPTION:<p><a href='https://www.vyufda.com.au/vyufda01/wp-content/uploa
 ds/2020/11/COVID-Safe-Plan.pdf'>COVID Safe Plan V1.0</a></p>\n<p> </p>
DTSTART;VALUE=DATE:20210814
DTEND;VALUE=DATE:20210815
GEO:-37.280663;+144.724104
LOCATION:Lancefield @ Lancefield VIC 3435\, Australia
SEQUENCE:0
SUMMARY:Lancefield Yard Dog Trial August
URL:https://www.vyufda.com.au/event/lancefield-yard-dog-trial-august/
X-COST-TYPE:free
END:VEVENT
BEGIN:VEVENT
UID:ai1ec-9098@www.vyufda.com.au/vyufda01
DTSTAMP:20210228T092541Z
CATEGORIES;LANGUAGE=en-AU:News\,Trial Events
CONTACT:Brian Leahy\; 0409 336 654\; bjwzleahy@gmail.com
DESCRIPTION:
DTSTART;VALUE=DATE:20211002
DTEND;VALUE=DATE:20211003
GEO:-37.02248;+145.131739
LOCATION:Kings Park\, Seymour @ Tallarook St\, Seymour VIC 3660\, Australia
SEQUENCE:0
SUMMARY:Seymour Yard Dog Trial – North East Open Challenge
URL:https://www.vyufda.com.au/event/seymour-yard-dog-trial-north-east-open-
 challenge/
X-COST-TYPE:free
END:VEVENT
BEGIN:VEVENT
UID:ai1ec-9120@www.vyufda.com.au/vyufda01
DTSTAMP:20210228T092541Z
CATEGORIES;LANGUAGE=en-AU:Trial Events
CONTACT:Noel Templeton\; 0428353225\; https://www.swanhillshow.com.au/
DESCRIPTION:
DTSTART;VALUE=DATE:20211002
DTEND;VALUE=DATE:20211003
GEO:-35.338752;+143.553037
LOCATION:Swan Hill Showgrounds @ McCallum St\, Swan Hill VIC 3585\, Austral
 ia
SEQUENCE:0
SUMMARY:Swan Hill Yard Trial
URL:https://www.vyufda.com.au/event/swan-hill-yard-trial/
X-COST-TYPE:free
END:VEVENT
BEGIN:VEVENT
UID:ai1ec-9121@www.vyufda.com.au/vyufda01
DTSTAMP:20210228T092541Z
CATEGORIES;LANGUAGE=en-AU:Trial Events
CONTACT:Graham & Lorraine Morris\; 5450 3224
DESCRIPTION:
DTSTART;VALUE=DATE:20211004
DTEND;VALUE=DATE:20211005
GEO:-35.735138;+143.932414
LOCATION:Kerang @ Wellington St & Park Rd\, Kerang VIC 3579\, Australia
SEQUENCE:0
SUMMARY:Kerang Yard Trial
URL:https://www.vyufda.com.au/event/kerang-yard-trial/
X-COST-TYPE:free
END:VEVENT
BEGIN:VEVENT
UID:ai1ec-9119@www.vyufda.com.au/vyufda01
DTSTAMP:20210228T092541Z
CATEGORIES;LANGUAGE=en-AU:Trial Events
CONTACT:Greg Boyd\; 0428 328 928
DESCRIPTION:
DTSTART;VALUE=DATE:20211009
DTEND;VALUE=DATE:20211010
GEO:-36.112599;+143.73261
LOCATION:Boort @ 35 McMillans Rd\, Boort VIC 3537\, Australia
SEQUENCE:0
SUMMARY:Boort Yard Trial
URL:https://www.vyufda.com.au/event/boort-yard-trial/
X-COST-TYPE:free
END:VEVENT
BEGIN:VEVENT
UID:ai1ec-9200@www.vyufda.com.au/vyufda01
DTSTAMP:20210228T092541Z
CATEGORIES;LANGUAGE=en-AU:News\,Trial Events\,updates
CONTACT:Neville Williams\; 0437 400 000
DESCRIPTION:<p><a href='https://www.vyufda.com.au/vyufda01/wp-content/uploa
 ds/2020/11/COVID-Safe-Plan.pdf'>COVID Safe Plan V1.0</a></p>\n<p> </p>
DTSTART;VALUE=DATE:20211016
DTEND;VALUE=DATE:20211018
GEO:-37.280663;+144.724104
LOCATION:Lancefield @ Lancefield VIC 3435\, Australia
SEQUENCE:0
SUMMARY:Lancefield Show Yard Dog Trial
URL:https://www.vyufda.com.au/event/lancefield-show-yard-dog-trial/
X-COST-TYPE:free
END:VEVENT
BEGIN:VEVENT
UID:ai1ec-9099@www.vyufda.com.au/vyufda01
DTSTAMP:20210228T092541Z
CATEGORIES;LANGUAGE=en-AU:News\,Trial Events
CONTACT:James Fowler\; 0417 133 826
DESCRIPTION:<p><a href='http://www.euroashow.org.au/'>Euroa Show</a></p>
DTSTART;VALUE=DATE:20211023
DTEND;VALUE=DATE:20211024
GEO:-36.743815;+145.574361
LOCATION:Euroa @ 16 Frost St\, Euroa VIC 3666\, Australia
SEQUENCE:0
SUMMARY:Euroa Yard Dog Trial – North East Open Challenge
URL:https://www.vyufda.com.au/event/euroa-yard-dog-trial-north-east-open-ch
 allenge/
X-COST-TYPE:free
END:VEVENT
BEGIN:VEVENT
UID:ai1ec-9118@www.vyufda.com.au/vyufda01
DTSTAMP:20210228T092541Z
CATEGORIES;LANGUAGE=en-AU:News\,Trial Events
CONTACT:Paul McPhail\; 0418 335 306\; info@belokakelpies.com.au
DESCRIPTION:
DTSTART;VALUE=DATE:20211030
DTEND;VALUE=DATE:20211101
GEO:-38.659452;+146.420173
LOCATION:Beloka @ 5845 S Gippsland Hwy\, Welshpool VIC 3966
SEQUENCE:0
SUMMARY:Beloka Yard/Utility Trial
URL:https://www.vyufda.com.au/event/beloka-yard-utility-trial/
X-COST-TYPE:free
END:VEVENT
BEGIN:VEVENT
UID:ai1ec-9116@www.vyufda.com.au/vyufda01
DTSTAMP:20210228T092541Z
CATEGORIES;LANGUAGE=en-AU:News\,Trial Events
CONTACT:Gary Nettle\; 5433 5134\; https://heathcoteshow.wordpress.com/
DESCRIPTION:
DTSTART;VALUE=DATE:20211102
DTEND;VALUE=DATE:20211103
GEO:-36.917144;+144.709465
LOCATION:Heathcote Showgrounds @ Chauncey St & Caldwell St\, Heathcote VIC 
 3523\, Australia
SEQUENCE:0
SUMMARY:Heathcote Yard Trial
URL:https://www.vyufda.com.au/event/heathcote-yard-trial/
X-COST-TYPE:free
END:VEVENT
BEGIN:VEVENT
UID:ai1ec-9100@www.vyufda.com.au/vyufda01
DTSTAMP:20210228T092541Z
CATEGORIES;LANGUAGE=en-AU:News\,Trial Events
CONTACT:Ian Bates\; 0418 367 209\; ianwkd@bigpond.com.au
DESCRIPTION:
DTSTART;VALUE=DATE:20211113
DTEND;VALUE=DATE:20211114
GEO:-37.185268;+145.708836
LOCATION:Alexandra Showgrounds @ 17 William St\, Alexandra VIC 3714\, Austr
 alia
SEQUENCE:0
SUMMARY:Alexandra Yard Dog Trial – North East Open Challenge
URL:https://www.vyufda.com.au/event/alexandra-yard-dog-trial-north-east-ope
 n-challenge/
X-COST-TYPE:free
END:VEVENT
BEGIN:VEVENT
UID:ai1ec-9114@www.vyufda.com.au/vyufda01
DTSTAMP:20210228T092541Z
CATEGORIES;LANGUAGE=en-AU:News\,Trial Events
CONTACT:Rod Cavill\; 0429 951 907\; https://www.omeoshow.com.au/
DESCRIPTION:
DTSTART;VALUE=DATE:20211113
DTEND;VALUE=DATE:20211114
GEO:-37.094905;+147.597468
LOCATION:Omeo Recreation Reserve @ Park St\, Omeo VIC 3898\, Australia
SEQUENCE:0
SUMMARY:Omeo Yard Trial
URL:https://www.vyufda.com.au/event/omeo-yard-trial/
X-COST-TYPE:free
END:VEVENT
BEGIN:VEVENT
UID:ai1ec-9113@www.vyufda.com.au/vyufda01
DTSTAMP:20210228T092541Z
CATEGORIES;LANGUAGE=en-AU:News\,Trial Events
CONTACT:Kate JUBB\; 0403083361\; katejubb@icloud.com\; http://www.nooratsho
 w.org.au/
DESCRIPTION:
DTSTART;VALUE=DATE:20211120
DTEND;VALUE=DATE:20211121
GEO:-38.19105;+142.93781
LOCATION:Noorat Recreation Reserve @ Mackinnons Bridge-Noorat Rd\, Noorat V
 IC 3265\, Australia
SEQUENCE:0
SUMMARY:Noorat Yard Trial
URL:https://www.vyufda.com.au/event/noorat-yard-trial/
X-COST-TYPE:free
END:VEVENT
BEGIN:VEVENT
UID:ai1ec-9101@www.vyufda.com.au/vyufda01
DTSTAMP:20210228T092541Z
CATEGORIES;LANGUAGE=en-AU:News\,Trial Events
CONTACT:Tony Robson\; 0418122804\; glenlocky@gmail.com
DESCRIPTION:
DTSTART;VALUE=DATE:20211127
DTEND;VALUE=DATE:20211128
GEO:-37.20982;+145.42343
LOCATION:Yea Show Grounds @ Snodgrass St\, Yea VIC 3717\, Australia
SEQUENCE:0
SUMMARY:Yea Yard Trial – North East Open Challenge
URL:https://www.vyufda.com.au/event/yea-yard-trial-north-east-open-challeng
 e/
X-COST-TYPE:free
END:VEVENT
BEGIN:VEVENT
UID:ai1ec-9131@www.vyufda.com.au/vyufda01
DTSTAMP:20210228T092541Z
CATEGORIES;LANGUAGE=en-AU:News\,Trial Events
CONTACT:Ros Reynolds\; 0417 558 002\; geminca@westvic.com.au
DESCRIPTION:<div dir='ltr'>\n<div dir='ltr'>\n<p class='x_p2'>\n</div>\n</d
 iv>\n<p class='x_p2'><span class='x_s2'>Address – 49 Boonerah RD Hexham.<b
 r />\n</span><span class='x_s2'>It’s a dirt road in the middle of the town
 .</span></p>
DTSTART;VALUE=DATE:20211205
DTEND;VALUE=DATE:20211206
GEO:-37.999502;+142.690241
LOCATION:Hexham @ 49 Boonerah Road\, Hexham Vic Australia
SEQUENCE:0
SUMMARY:Hexham Yard Dog Trial
URL:https://www.vyufda.com.au/event/hexham-yard-dog-trial-2/
X-COST-TYPE:free
END:VEVENT
BEGIN:VEVENT
UID:ai1ec-9021@www.vyufda.com.au/vyufda01
DTSTAMP:20210228T092541Z
CATEGORIES;LANGUAGE=en-AU:News\,Trial Events\,updates
CONTACT:Neville Williams\; 0437 400 000
DESCRIPTION:<p><a href='https://www.vyufda.com.au/vyufda01/wp-content/uploa
 ds/2020/11/COVID-Safe-Plan.pdf'>COVID Safe Plan V1.0</a></p>\n<p><a href='
 https://www.vyufda.com.au/vyufda01/wp-content/uploads/2021/01/Lancefield-O
 pen-Draw.pdf'>Lancefield Open Draw</a></p>\n<p><a href='https://www.vyufda
 .com.au/vyufda01/wp-content/uploads/2021/01/Lancefield-Encourage-Draw.pdf'
 >Lancefield Encourage Draw</a></p>\n<p><a href='https://www.vyufda.com.au/
 vyufda01/wp-content/uploads/2021/01/Lancefield-Maiden-Novice-Draw.pdf'>Lan
 cefield Maiden-Novice – Draw</a></p>\n<p>Lancefield Recreation Reserve 23r
 d January 2021</p>\n<p><span style='color: #ff0000\;'><strong>Entries clos
 e extended to COB Monday 18th January</strong></span> – draw will be poste
 d on the VYUFDA site</p>\n<p>Open Judge <strong>Darryn Hannah</strong> Jud
 ges talk 6.30am</p>\n<p>Encourage Judge <strong>Darryn Hannah</strong></p>
 \n<p>Maiden/Novice Judge <strong>Dale Thompson</strong></p>\n<p>1st event:
  Open = 10 dogs 1 entry per handler (Conveners discretion)<br />\n2nd even
 t: Encourage = 10 dogs<br />\n1 entry per handler (Conveners discretion)<b
 r />\n3rd event: Maiden/Novice approx 40 dogs – limit 3 dogs per handler (
 Conveners discretion)</p>
DTSTART;TZID=Australia/Melbourne:20210123T063000
DTEND;TZID=Australia/Melbourne:20210123T173000
GEO:-37.280663;+144.724104
LOCATION:Lancefield @ Lancefield VIC 3435\, Australia
SEQUENCE:0
SUMMARY:Lancefield Yard Dog Trial
URL:https://www.vyufda.com.au/event/lancefield-yard-dog-trial/
X-COST-TYPE:free
END:VEVENT
BEGIN:VEVENT
UID:ai1ec-9085@www.vyufda.com.au/vyufda01
DTSTAMP:20210228T092541Z
CATEGORIES;LANGUAGE=en-AU:News\,updates
CONTACT:Sharni Brookes / Vin Gedye\; 0429 901 232\; sharnibrookes@yahoo.com
 .au
DESCRIPTION:<p>To All VYUFDA members\,</p>\n<p>The Annual General Meeting w
 ill be convened at Hogans\, 92 High St\, Wallan Vic on Sunday 7<sup>th</su
 p> of February 2021.</p>\n<p>The meeting will commence at 11:00 am.</p>\n<
 p>A light luncheon will be served at 12.30 pm\, which is being partially s
 ponsored by the Association. There will be a $10 charge per person and we 
 request advice of your intention to attend in order that catering may be a
 ccurate. <strong><u>RSVP need to be sent to myself by Friday 22<sup>nd</su
 p> of January 2021. </u></strong></p>\n<p>If you have any queries\, please
  email myself (Sharni Brookes) or telephone Vin Gedye on 0429 901 232.</p>
 \n<p>Sharni Brookes<br />\nSecretary<br />\n<a href='mailto:sharnibrookes@
 yahoo.com.au?subject=VYUFDA%20AGM'><strong>sharnibrookes@yahoo.com.au</str
 ong></a></p>
DTSTART;TZID=Australia/Melbourne:20210207T110000
DTEND;TZID=Australia/Melbourne:20210207T150000
GEO:-37.412197;+144.980008
LOCATION:Hogans @ 92 High St\, Wallan Vic
SEQUENCE:0
SUMMARY:Annual General Meeting – Sunday 7th of February 2021
URL:https://www.vyufda.com.au/event/annual-general-meeting-sunday-7th-of-fe
 bruary-2021/
X-COST-TYPE:free
X-COST:10
END:VEVENT
END:VCALENDAR
